BEGIN:VCALENDAR
PRODID:-//Microsoft Corporation//Outlook 12.0 MIMEDIR//EN
VERSION:2.0
CALSCALE:GREGORIAN
BEGIN:VEVENT
UID: 2c71f38c-ab4b-4fa9-a2aa-701692d359f0
SUMMARY:Riigieksam
DTSTAMP:20260520T000000
DTSTART:20260520T000000
DTEND:20260520T235900
LOCATION:Suure-Jaani
DESCRIPTION: <p>Matemaatika riigieksam</p><p><strong>Link: </strong>https://sjg.edu.ee/et/sundmuste-kalender/riigieksam-1</p><p><strong>Hind: </strong></p>
STATUS:CONFIRMED
SEQUENCE:3
X-ALT-DESC;FMTTYPE=text/html:<p>Matemaatika riigieksam</p><p><strong>Link: </strong>https://sjg.edu.ee/et/sundmuste-kalender/riigieksam-1</p><p><strong>Hind: </strong></p>
X-MICROSOFT-CDO-BUSYSTATUS:OOF
X-MICROSOFT-CDO-IMPORTANCE:1
X-MICROSOFT-DISALLOW-COUNTER:FALSE
X-MS-OLK-ALLOWEXTERNCHECK:TRUE
X-MS-OLK-CONFTYPE:0
X-MICROSOFT-CDO-ALLDAYEVENT:
X-MICROSOFT-MSNCALENDAR-ALLDAYEVENT:
END:VEVENT
END:VCALENDAR