BEGIN:VCALENDAR
PRODID:-//Microsoft Corporation//Outlook 12.0 MIMEDIR//EN
VERSION:2.0
CALSCALE:GREGORIAN
BEGIN:VEVENT
UID: 1200671a-bd2d-40ce-b73a-5999dd49b35f
SUMMARY:Väärikate akadeemia
DTSTAMP:20260503T000000
DTSTART:20260503T000000
DTEND:20260503T235900
LOCATION:Suure-Jaani
DESCRIPTION: <p>Põhja-Sakala väärikate akadeemia loengupäev koolimaja aulas</p><p><strong>Link: </strong>https://sjg.edu.ee/et/sundmuste-kalender/vaarikate-akadeemia-0</p><p><strong>Hind: </strong></p>
STATUS:CONFIRMED
SEQUENCE:3
X-ALT-DESC;FMTTYPE=text/html:<p>Põhja-Sakala väärikate akadeemia loengupäev koolimaja aulas</p><p><strong>Link: </strong>https://sjg.edu.ee/et/sundmuste-kalender/vaarikate-akadeemia-0</p><p><strong>Hind: </strong></p>
X-MICROSOFT-CDO-BUSYSTATUS:OOF
X-MICROSOFT-CDO-IMPORTANCE:1
X-MICROSOFT-DISALLOW-COUNTER:FALSE
X-MS-OLK-ALLOWEXTERNCHECK:TRUE
X-MS-OLK-CONFTYPE:0
X-MICROSOFT-CDO-ALLDAYEVENT:
X-MICROSOFT-MSNCALENDAR-ALLDAYEVENT:
END:VEVENT
END:VCALENDAR